BEGIN:VCALENDAR
VERSION:2.0
PRODID:-//Revolutionary Valley Regional Tourism Council - ECPv6.15.0.1//NONSGML v1.0//EN
CALSCALE:GREGORIAN
METHOD:PUBLISH
X-WR-CALNAME:Revolutionary Valley Regional Tourism Council
X-ORIGINAL-URL:https://revolutionaryvalley.org
X-WR-CALDESC:Events for Revolutionary Valley Regional Tourism Council
REFRESH-INTERVAL;VALUE=DURATION:PT1H
X-Robots-Tag:noindex
X-PUBLISHED-TTL:PT1H
BEGIN:VTIMEZONE
TZID:America/New_York
BEGIN:DAYLIGHT
TZOFFSETFROM:-0500
TZOFFSETTO:-0400
TZNAME:EDT
DTSTART:20250309T070000
END:DAYLIGHT
BEGIN:STANDARD
TZOFFSETFROM:-0400
TZOFFSETTO:-0500
TZNAME:EST
DTSTART:20251102T060000
END:STANDARD
END:VTIMEZONE
BEGIN:VEVENT
DTSTART;TZID=America/New_York:20250907T110000
DTEND;TZID=America/New_York:20250907T120000
DTSTAMP:20260420T182541
CREATED:20250829T140310Z
LAST-MODIFIED:20250829T140310Z
UID:10069257-1757242800-1757246400@revolutionaryvalley.org
SUMMARY:Sunday Stroll Walking Tour: Hancock Street Architecture
DESCRIPTION:When the Battle of Lexington was fought in 1775\, Hancock Street was a country lane with just two houses. The next 150 years saw many houses built with various architectural styles. Come take a stroll and learn about the Georgian\, Federal\, Greek Revival\, Italianate\, and Gothic Revival homes that populate the street today. \nLeaves from Buckman Tavern rain or shine\, total walking distance about one mile. \n$10 members\, $15 nonmembers
URL:https://revolutionaryvalley.org/event/sunday-stroll-walking-tour-hancock-street-architecture-6/
LOCATION:Buckman Tavern\, 1 Bedford St\, Lexington\, MA\, 02420\, United States
CATEGORIES:Historical
ATTACH;FMTTYPE=image/jpeg:https://revolutionaryvalley.org/wp-content/uploads/2025/08/Buckman.jpg
ORGANIZER;CN="Lexington History Museums":MAILTO:visitorservices@lexingtonhistory.org
GEO:42.4492773;-71.2297485
X-APPLE-STRUCTURED-LOCATION;VALUE=URI;X-ADDRESS=Buckman Tavern 1 Bedford St Lexington MA 02420 United States;X-APPLE-RADIUS=500;X-TITLE=1 Bedford St:geo:-71.2297485,42.4492773
END:VEVENT
BEGIN:VEVENT
DTSTART;TZID=America/New_York:20250907T110000
DTEND;TZID=America/New_York:20250907T120000
DTSTAMP:20260420T182541
CREATED:20250829T180310Z
LAST-MODIFIED:20260116T175013Z
UID:10056900-1757242800-1757246400@revolutionaryvalley.org
SUMMARY:Sunday Stroll Walking Tour: Hancock Street Architecture
DESCRIPTION:When the Battle of Lexington was fought in 1775\, Hancock Street was a country lane with just two houses. The next 150 years saw many houses built with various architectural styles. Come take a stroll and learn about the Georgian\, Federal\, Greek Revival\, Italianate\, and Gothic Revival homes that populate the street today. \nLeaves from Buckman Tavern rain or shine\, total walking distance about one mile. \n$10 members\, $15 nonmembers
URL:https://revolutionaryvalley.org/event/sunday-stroll-walking-tour-hancock-street-architecture-6-2/
LOCATION:Buckman Tavern\, 1 Bedford St\, Lexington\, MA\, 02420\, United States
CATEGORIES:Historical
ATTACH;FMTTYPE=image/jpeg:https://revolutionaryvalley.org/wp-content/uploads/2026/01/Buckman.jpg
ORGANIZER;CN="Lexington History Museums":MAILTO:visitorservices@lexingtonhistory.org
GEO:42.4492773;-71.2297485
X-APPLE-STRUCTURED-LOCATION;VALUE=URI;X-ADDRESS=Buckman Tavern 1 Bedford St Lexington MA 02420 United States;X-APPLE-RADIUS=500;X-TITLE=1 Bedford St:geo:-71.2297485,42.4492773
END:VEVENT
BEGIN:VEVENT
DTSTART;TZID=America/New_York:20250914T170000
DTEND;TZID=America/New_York:20250914T190000
DTSTAMP:20260420T182541
CREATED:20250911T022218Z
LAST-MODIFIED:20250911T022218Z
UID:10069896-1757869200-1757876400@revolutionaryvalley.org
SUMMARY:Recounting the Revolution: History and Meaning of Leutze’s The News of Lexington
DESCRIPTION:Best known for his iconic painting Washington Crossing the Delaware\, German-American artist Emanuel Leutze also painted other scenes of the American Revolution. One of these\, The News of Lexington (1852)\, portrays local townsfolk receiving word of the battle that launched the Revolution. Recently conserved with support from the Wyeth Foundation of American Art\, the painting is now on display at the Lexington Depot. Join art scholar Kate Criscitiello as she explores the history of this fascinating painting and reexamines its meaning within the political and social context of 19th-century America. \nThis talk will be followed by a reception to ask questions\, examine the painting more closely\, and enjoy light refreshments with the speaker. \nAbout Our Speaker: \nArt historian Kate Criscitiello most recently served as the Assistant Curator at the Lexington History Museums\, where she led the curation of the special exhibition Swept Up in Revolution. A passionate advocate for New England history\, Kate serves on the Board of Trustees at the House of the Seven Gables. She has also worked as a Graduate Scholar with the Center for Painted Wall Preservation\, contributing to the creation of a virtual museum of New England’s painted walls. Kate holds a master’s degree in art history and museum studies from Tufts University. \n$10 members\, $15 nonmembers
URL:https://revolutionaryvalley.org/event/recounting-the-revolution-history-and-meaning-of-leutzes-the-news-of-lexington/
LOCATION:The Depot
CATEGORIES:Arts & Culture
ATTACH;FMTTYPE=image/jpeg:https://revolutionaryvalley.org/wp-content/uploads/2026/01/Leutze.jpg
ORGANIZER;CN="Lexington History Museums":MAILTO:visitorservices@lexingtonhistory.org
GEO:42.4485967;-71.227977
END:VEVENT
BEGIN:VEVENT
DTSTART;TZID=America/New_York:20250916T100000
DTEND;TZID=America/New_York:20250916T110000
DTSTAMP:20260420T182541
CREATED:20250911T022137Z
LAST-MODIFIED:20250911T022137Z
UID:10069897-1758016800-1758020400@revolutionaryvalley.org
SUMMARY:Depot Mural Ribbon Cutting and Artist Discussion
DESCRIPTION:Local artist Kit Collins has been hard at work all summer beautifying the columns behind the Depot into a colorful mural of Lexington’s history past and present. Join LHM and the town for a ribbon cutting and special discussion with the artist to discover the stories represented in the art! \nFree!
URL:https://revolutionaryvalley.org/event/depot-mural-ribbon-cutting-and-artist-discussion/
LOCATION:The Depot
CATEGORIES:Arts & Culture
ATTACH;FMTTYPE=image/jpeg:https://revolutionaryvalley.org/wp-content/uploads/2026/01/mural.jpg
ORGANIZER;CN="Lexington History Museums":MAILTO:visitorservices@lexingtonhistory.org
GEO:42.4485967;-71.227977
END:VEVENT
BEGIN:VEVENT
DTSTART;TZID=America/New_York:20250921T110000
DTEND;TZID=America/New_York:20250921T120000
DTSTAMP:20260420T182541
CREATED:20250911T021958Z
LAST-MODIFIED:20260116T175305Z
UID:10056902-1758452400-1758456000@revolutionaryvalley.org
SUMMARY:Sunday Stroll Walking Tour: Stories in Stone
DESCRIPTION:Visit over three centuries of Lexington’s past on a walking tour of the historic Old Burying Ground. Beautiful gravestone artwork – from skulls and crossbones to willow trees and urns – reveal how our ancestors grappled with the concept of death. Discover how mortuary art has changed over time\, and meet some of Lexington’s most famous inhabitants along the way. \nLeaves from Buckman Tavern; total walking distance about one mile. \nSpace is limited to 20 people. Ticket sales end at 6 PM the evening before the tour. \n$10 members\, $15 nonmembers
URL:https://revolutionaryvalley.org/event/sunday-stroll-walking-tour-stories-in-stone-3/
LOCATION:The Depot
CATEGORIES:Historical
ATTACH;FMTTYPE=image/jpeg:https://revolutionaryvalley.org/wp-content/uploads/2026/01/Gravesheader-3.jpg
ORGANIZER;CN="Lexington History Museums":MAILTO:visitorservices@lexingtonhistory.org
GEO:42.4485967;-71.227977
END:VEVENT
BEGIN:VEVENT
DTSTART;TZID=America/New_York:20250928T110000
DTEND;TZID=America/New_York:20250928T140000
DTSTAMP:20260420T182541
CREATED:20250911T021844Z
LAST-MODIFIED:20260116T175313Z
UID:10065047-1759057200-1759068000@revolutionaryvalley.org
SUMMARY:18th Century Music at the Depot
DESCRIPTION:Drop in to meet Historical Society guide and musician Darlene Wigton as she demonstrates 18th century guitar music. You can even learn a song and join in! \nIncluded with museum admission.
URL:https://revolutionaryvalley.org/event/18th-century-music-at-the-depot-2/
LOCATION:The Depot
CATEGORIES:Arts & Culture
ATTACH;FMTTYPE=image/jpeg:https://revolutionaryvalley.org/wp-content/uploads/2026/01/Darlene-and-visitors-scaled-1.jpeg
ORGANIZER;CN="Lexington History Museums":MAILTO:visitorservices@lexingtonhistory.org
GEO:42.4485967;-71.227977
END:VEVENT
END:VCALENDAR