BEGIN:VCALENDAR
VERSION:2.0
PRODID:-//Revolutionary Valley Regional Tourism Council - ECPv6.15.0.1//NONSGML v1.0//EN
CALSCALE:GREGORIAN
METHOD:PUBLISH
X-ORIGINAL-URL:https://revolutionaryvalley.org
X-WR-CALDESC:Events for Revolutionary Valley Regional Tourism Council
REFRESH-INTERVAL;VALUE=DURATION:PT1H
X-Robots-Tag:noindex
X-PUBLISHED-TTL:PT1H
BEGIN:VTIMEZONE
TZID:America/New_York
BEGIN:DAYLIGHT
TZOFFSETFROM:-0500
TZOFFSETTO:-0400
TZNAME:EDT
DTSTART:20250309T070000
END:DAYLIGHT
BEGIN:STANDARD
TZOFFSETFROM:-0400
TZOFFSETTO:-0500
TZNAME:EST
DTSTART:20251102T060000
END:STANDARD
END:VTIMEZONE
BEGIN:VEVENT
DTSTART;TZID=America/New_York:20250921T110000
DTEND;TZID=America/New_York:20250921T120000
DTSTAMP:20260421T140931
CREATED:20250911T021958Z
LAST-MODIFIED:20260116T175305Z
UID:10056902-1758452400-1758456000@revolutionaryvalley.org
SUMMARY:Sunday Stroll Walking Tour: Stories in Stone
DESCRIPTION:Visit over three centuries of Lexington’s past on a walking tour of the historic Old Burying Ground. Beautiful gravestone artwork – from skulls and crossbones to willow trees and urns – reveal how our ancestors grappled with the concept of death. Discover how mortuary art has changed over time\, and meet some of Lexington’s most famous inhabitants along the way. \nLeaves from Buckman Tavern; total walking distance about one mile. \nSpace is limited to 20 people. Ticket sales end at 6 PM the evening before the tour. \n$10 members\, $15 nonmembers
URL:https://revolutionaryvalley.org/event/sunday-stroll-walking-tour-stories-in-stone-3/
LOCATION:The Depot
CATEGORIES:Historical
ATTACH;FMTTYPE=image/jpeg:https://revolutionaryvalley.org/wp-content/uploads/2026/01/Gravesheader-3.jpg
ORGANIZER;CN="Lexington History Museums":MAILTO:visitorservices@lexingtonhistory.org
GEO:42.4485967;-71.227977
END:VEVENT
END:VCALENDAR