BEGIN:VCALENDAR
VERSION:2.0
PRODID:-//Revolutionary Valley Regional Tourism Council - ECPv6.15.0.1//NONSGML v1.0//EN
CALSCALE:GREGORIAN
METHOD:PUBLISH
X-ORIGINAL-URL:https://revolutionaryvalley.org
X-WR-CALDESC:Events for Revolutionary Valley Regional Tourism Council
REFRESH-INTERVAL;VALUE=DURATION:PT1H
X-Robots-Tag:noindex
X-PUBLISHED-TTL:PT1H
BEGIN:VTIMEZONE
TZID:America/New_York
BEGIN:DAYLIGHT
TZOFFSETFROM:-0500
TZOFFSETTO:-0400
TZNAME:EDT
DTSTART:20250309T070000
END:DAYLIGHT
BEGIN:STANDARD
TZOFFSETFROM:-0400
TZOFFSETTO:-0500
TZNAME:EST
DTSTART:20251102T060000
END:STANDARD
END:VTIMEZONE
BEGIN:VEVENT
DTSTART;TZID=America/New_York:20251120T130000
DTEND;TZID=America/New_York:20251120T140000
DTSTAMP:20260420T161902
CREATED:20251110T031759Z
LAST-MODIFIED:20251110T031759Z
UID:10070061-1763643600-1763647200@revolutionaryvalley.org
SUMMARY:Swept Up In Revolution Tour
DESCRIPTION:Lexington History Museums’ special exhibition Swept Up in Revolution at Buckman Tavern follows the lives of ordinary people thrust into extraordinary circumstances. How did a war for independence break out in a sleepy country town\, and what were the consequences for the survivors once the smoke cleared? Join us for a special conversational tour where we will peer into the lives of Lexingtonians during the American Revolution. \nIncluded with museum admission.
URL:https://revolutionaryvalley.org/event/swept-up-in-revolution-tour/
LOCATION:Buckman Tavern\, 1 Bedford St\, Lexington\, MA\, 02420\, United States
CATEGORIES:Historical
ATTACH;FMTTYPE=image/jpeg:https://revolutionaryvalley.org/wp-content/uploads/2026/01/sweptup.jpg
ORGANIZER;CN="Lexington History Museums":MAILTO:visitorservices@lexingtonhistory.org
GEO:42.4492773;-71.2297485
X-APPLE-STRUCTURED-LOCATION;VALUE=URI;X-ADDRESS=Buckman Tavern 1 Bedford St Lexington MA 02420 United States;X-APPLE-RADIUS=500;X-TITLE=1 Bedford St:geo:-71.2297485,42.4492773
END:VEVENT
END:VCALENDAR