BEGIN:VCALENDAR
VERSION:2.0
PRODID:-//Revolutionary Valley Regional Tourism Council - ECPv6.15.0.1//NONSGML v1.0//EN
CALSCALE:GREGORIAN
METHOD:PUBLISH
X-WR-CALNAME:Revolutionary Valley Regional Tourism Council
X-ORIGINAL-URL:https://revolutionaryvalley.org
X-WR-CALDESC:Events for Revolutionary Valley Regional Tourism Council
REFRESH-INTERVAL;VALUE=DURATION:PT1H
X-Robots-Tag:noindex
X-PUBLISHED-TTL:PT1H
BEGIN:VTIMEZONE
TZID:America/New_York
BEGIN:DAYLIGHT
TZOFFSETFROM:-0500
TZOFFSETTO:-0400
TZNAME:EDT
DTSTART:20260308T070000
END:DAYLIGHT
BEGIN:STANDARD
TZOFFSETFROM:-0400
TZOFFSETTO:-0500
TZNAME:EST
DTSTART:20261101T060000
END:STANDARD
END:VTIMEZONE
BEGIN:VEVENT
DTSTART;TZID=America/New_York:20260103T150000
DTEND;TZID=America/New_York:20260103T170000
DTSTAMP:20260425T200059
CREATED:20251208T203216Z
LAST-MODIFIED:20251208T203216Z
UID:10070900-1767452400-1767459600@revolutionaryvalley.org
SUMMARY:CONVERSATION IN MOVEMENT | January 1-31\, 2026| Loading Dock Gallery
DESCRIPTION:Loading Dock Gallery is pleased to present Conversation in Movement\, a dynamic group exhibition featuring the work of Nino Gordeladze\, Dina Mordeno\, Ed Porzio\, and Johanna Tiemann. The show runs January 1–31\, 2026\, with a public reception on January 3 from 3–5 PM\, coinciding with Western Avenue Studios’ Open Studios. \nAs a special highlight\, dancer Kosmia Vaporis will perform a brief movement piece at approximately 4 PM\, bringing motion directly into the gallery. Her live performance will interact with the artwork\, illuminating the exhibition’s exploration of the subtle dialogue between stillness and movement. \nConversation in Movement delves into the poetic relationship between dance and visual art. Inspired by the unspoken language created when gesture\, color\, and form meet\, the exhibition invites visitors to experience an emotional and sensory exchange unfolding across the space. Painted forms\, playful color\, whimsical detail\, and captured motion merge into a shared expressive conversation. \nThe artists note that this exhibition grew from the natural dialogue that forms between visual and performing arts. Drawing inspiration from music\, dancers\, color\, and the quiet moments that define movement\, the works are united by rhythm and flow. Visitors are encouraged to linger\, reflect\, and discover their own interpretations. \nConversation in Movement will be open during regular Loading Dock Gallery hours throughout January. \nLoading Dock Gallery is part of Loading Dock Arts\, Inc.\, a 501(c)(3). For more information\, visit www.theloadingdockgallery.com
URL:https://revolutionaryvalley.org/event/conversation-in-movement-january-1-31-2026-loading-dock-gallery/
LOCATION:Loading Dock Gallery\, 122 Western Avenue\, Lowell\, MA\, United States
CATEGORIES:Arts & Culture,Exhibits,Free Events,Live Performances
ATTACH;FMTTYPE=image/jpeg:https://revolutionaryvalley.org/wp-content/uploads/2026/01/Nino-Gordeladze-Dancer2-scaled-1.jpg
GEO:42.6398431;-71.3192968
X-APPLE-STRUCTURED-LOCATION;VALUE=URI;X-ADDRESS=Loading Dock Gallery 122 Western Avenue Lowell MA United States;X-APPLE-RADIUS=500;X-TITLE=122 Western Avenue:geo:-71.3192968,42.6398431
END:VEVENT
BEGIN:VEVENT
DTSTART;TZID=America/New_York:20260117T193000
DTEND;TZID=America/New_York:20260117T220000
DTSTAMP:20260425T200059
CREATED:20251110T003220Z
LAST-MODIFIED:20251110T003220Z
UID:10070058-1768678200-1768687200@revolutionaryvalley.org
SUMMARY:Erin Ash Sullivan & Rupert Wates in Concert
DESCRIPTION:The Bedford Cultural District’s New Song Music Series presents an evening of award-winning original music with Erin Ash Sullivan and Rupert Wates on Saturday\, January 17\, 2026\, at Bedford Town Hall. \nErin Ash Sullivan’s songs are known for their lyrical honesty and sense of place. Her 2024 release Signposts and Marks debuted at #4 on the FAI Folk DJ chart\, earning praise from Americana UK as “a songwriter of the highest order.” A Falcon Ridge Folk Festival “Most Wanted” artist\, her style evokes the storytelling of Joni Mitchell and Joan Baez. \nRupert Wates\, originally from London and now based in New York and Colorado\, has earned more than 50 songwriting and performing awards. His eclectic acoustic style blends folk\, jazz\, and cabaret influences. Folk and Acoustic Music Exchange calls him “a prime figure in American music.” \nEnjoy an intimate evening of masterful songwriting and inspired performance from two celebrated contemporary folk artists.
URL:https://revolutionaryvalley.org/event/erin-ash-sullivan-rupert-wates-in-concert/
LOCATION:Bedford Town Hall\, 10 Mudge Way\, Bedford\, 01730\, United States
CATEGORIES:Arts & Culture,Live Performances
ATTACH;FMTTYPE=image/jpeg:https://revolutionaryvalley.org/wp-content/uploads/2026/01/The-Bedford-Cultural-Districts-New-Song-Music-Series-Presents-700-x-500-px.jpg
ORGANIZER;CN="Bedford Cultural District":MAILTO:info@newsongbedford.org
GEO:42.491704;-71.2817566
X-APPLE-STRUCTURED-LOCATION;VALUE=URI;X-ADDRESS=Bedford Town Hall 10 Mudge Way Bedford 01730 United States;X-APPLE-RADIUS=500;X-TITLE=10 Mudge Way:geo:-71.2817566,42.491704
END:VEVENT
END:VCALENDAR