BEGIN:VCALENDAR
VERSION:2.0
PRODID:-//Revolutionary Valley Regional Tourism Council - ECPv6.15.0.1//NONSGML v1.0//EN
CALSCALE:GREGORIAN
METHOD:PUBLISH
X-ORIGINAL-URL:https://revolutionaryvalley.org
X-WR-CALDESC:Events for Revolutionary Valley Regional Tourism Council
REFRESH-INTERVAL;VALUE=DURATION:PT1H
X-Robots-Tag:noindex
X-PUBLISHED-TTL:PT1H
BEGIN:VTIMEZONE
TZID:America/New_York
BEGIN:DAYLIGHT
TZOFFSETFROM:-0500
TZOFFSETTO:-0400
TZNAME:EDT
DTSTART:20250309T070000
END:DAYLIGHT
BEGIN:STANDARD
TZOFFSETFROM:-0400
TZOFFSETTO:-0500
TZNAME:EST
DTSTART:20251102T060000
END:STANDARD
END:VTIMEZONE
BEGIN:VEVENT
DTSTART;TZID=America/New_York:20251206T200000
DTEND;TZID=America/New_York:20251206T230000
DTSTAMP:20260425T233603
CREATED:20230912T190347Z
LAST-MODIFIED:20241029T131603Z
UID:10035556-1765051200-1765062000@revolutionaryvalley.org
SUMMARY:Live Greek & Middle Eastern Music and Bellydancing
DESCRIPTION:Live music and dancing featuring the Athenian Corner Ensemble
URL:https://revolutionaryvalley.org/event/live-greek-middle-eastern-music-and-bellydancing/2025-12-06/
LOCATION:Athenian Corner Restaurant\, 207 Market Street\, Lowell\, 01852\, United States
CATEGORIES:Arts & Culture,Culinary Tourism
ATTACH;FMTTYPE=image/jpeg:https://revolutionaryvalley.org/wp-content/uploads/2023/09/Ath-Corner-6.jpg
ORGANIZER;CN="Athenian Corner Restaurant":MAILTO:info@atheniancorner.com
GEO:42.6448268;-71.3123604
X-APPLE-STRUCTURED-LOCATION;VALUE=URI;X-ADDRESS=Athenian Corner Restaurant 207 Market Street Lowell 01852 United States;X-APPLE-RADIUS=500;X-TITLE=207 Market Street:geo:-71.3123604,42.6448268
END:VEVENT
BEGIN:VEVENT
DTSTART;TZID=America/New_York:20251213T120000
DTEND;TZID=America/New_York:20251213T170000
DTSTAMP:20260425T233603
CREATED:20251022T170034Z
LAST-MODIFIED:20251022T170034Z
UID:10069985-1765627200-1765645200@revolutionaryvalley.org
SUMMARY:Winter Market
DESCRIPTION:Join us for a festive day at Birdhouse as we host our 2nd Annual Winter Market\, a celebration of community\, creativity\, and connection. \nThis year’s market will feature: \n  Live music to set the seasonal mood \n  A delicious local food vendor to keep you fueled \n ️ Approximately 15 incredible women vendors offering unique gifts\, art\, and goods \nVendors include: \nAmaranth & Rue\, Ashley Courtney Art\, Bebisita\, Bonnie Brady Art\, Daylight Counseling\, Desjardin Design\, FromNorahWithLove\, Kate Fleming Photography\, MamaChicken Crafts\, Savanti Healing\, Stuck in the Studio\, The Baker’s Rack\, Water Street Cafe\, Xavier Luke Boutique Jewelry \nIt’s the perfect chance to shop small\, support women-owned businesses\, and discover one-of-a-kind treasures just in time for the holiday season. \nOpen to the public—bring your friends\, family\, and holiday cheer! \nMark the date for a day full of fun and community!
URL:https://revolutionaryvalley.org/event/winter-market/
LOCATION:Birdhouse\, 6 Chestnut St. #210\, Amesbury\, 01913
CATEGORIES:Fairs & Festivals,Food,Free Events,Kids & Family
ATTACH;FMTTYPE=image/jpeg:https://revolutionaryvalley.org/wp-content/uploads/2026/01/Copyof2025WinterMarket.jpg
GEO:42.8585143;-70.925608
X-APPLE-STRUCTURED-LOCATION;VALUE=URI;X-ADDRESS=Birdhouse 6 Chestnut St. #210 Amesbury 01913;X-APPLE-RADIUS=500;X-TITLE=6 Chestnut St. #210:geo:-70.925608,42.8585143
END:VEVENT
BEGIN:VEVENT
DTSTART;TZID=America/New_York:20251213T200000
DTEND;TZID=America/New_York:20251213T230000
DTSTAMP:20260425T233603
CREATED:20230912T190347Z
LAST-MODIFIED:20241029T131603Z
UID:10035557-1765656000-1765666800@revolutionaryvalley.org
SUMMARY:Live Greek & Middle Eastern Music and Bellydancing
DESCRIPTION:Live music and dancing featuring the Athenian Corner Ensemble
URL:https://revolutionaryvalley.org/event/live-greek-middle-eastern-music-and-bellydancing/2025-12-13/
LOCATION:Athenian Corner Restaurant\, 207 Market Street\, Lowell\, 01852\, United States
CATEGORIES:Arts & Culture,Culinary Tourism
ATTACH;FMTTYPE=image/jpeg:https://revolutionaryvalley.org/wp-content/uploads/2023/09/Ath-Corner-6.jpg
ORGANIZER;CN="Athenian Corner Restaurant":MAILTO:info@atheniancorner.com
GEO:42.6448268;-71.3123604
X-APPLE-STRUCTURED-LOCATION;VALUE=URI;X-ADDRESS=Athenian Corner Restaurant 207 Market Street Lowell 01852 United States;X-APPLE-RADIUS=500;X-TITLE=207 Market Street:geo:-71.3123604,42.6448268
END:VEVENT
BEGIN:VEVENT
DTSTART;TZID=America/New_York:20251220T200000
DTEND;TZID=America/New_York:20251220T230000
DTSTAMP:20260425T233603
CREATED:20230912T190347Z
LAST-MODIFIED:20241029T131603Z
UID:10035558-1766260800-1766271600@revolutionaryvalley.org
SUMMARY:Live Greek & Middle Eastern Music and Bellydancing
DESCRIPTION:Live music and dancing featuring the Athenian Corner Ensemble
URL:https://revolutionaryvalley.org/event/live-greek-middle-eastern-music-and-bellydancing/2025-12-20/
LOCATION:Athenian Corner Restaurant\, 207 Market Street\, Lowell\, 01852\, United States
CATEGORIES:Arts & Culture,Culinary Tourism
ATTACH;FMTTYPE=image/jpeg:https://revolutionaryvalley.org/wp-content/uploads/2023/09/Ath-Corner-6.jpg
ORGANIZER;CN="Athenian Corner Restaurant":MAILTO:info@atheniancorner.com
GEO:42.6448268;-71.3123604
X-APPLE-STRUCTURED-LOCATION;VALUE=URI;X-ADDRESS=Athenian Corner Restaurant 207 Market Street Lowell 01852 United States;X-APPLE-RADIUS=500;X-TITLE=207 Market Street:geo:-71.3123604,42.6448268
END:VEVENT
BEGIN:VEVENT
DTSTART;TZID=America/New_York:20251227T200000
DTEND;TZID=America/New_York:20251227T230000
DTSTAMP:20260425T233603
CREATED:20230912T190347Z
LAST-MODIFIED:20241029T131603Z
UID:10035559-1766865600-1766876400@revolutionaryvalley.org
SUMMARY:Live Greek & Middle Eastern Music and Bellydancing
DESCRIPTION:Live music and dancing featuring the Athenian Corner Ensemble
URL:https://revolutionaryvalley.org/event/live-greek-middle-eastern-music-and-bellydancing/2025-12-27/
LOCATION:Athenian Corner Restaurant\, 207 Market Street\, Lowell\, 01852\, United States
CATEGORIES:Arts & Culture,Culinary Tourism
ATTACH;FMTTYPE=image/jpeg:https://revolutionaryvalley.org/wp-content/uploads/2023/09/Ath-Corner-6.jpg
ORGANIZER;CN="Athenian Corner Restaurant":MAILTO:info@atheniancorner.com
GEO:42.6448268;-71.3123604
X-APPLE-STRUCTURED-LOCATION;VALUE=URI;X-ADDRESS=Athenian Corner Restaurant 207 Market Street Lowell 01852 United States;X-APPLE-RADIUS=500;X-TITLE=207 Market Street:geo:-71.3123604,42.6448268
END:VEVENT
END:VCALENDAR