BEGIN:VCALENDAR
VERSION:2.0
PRODID:-//Revolutionary Valley Regional Tourism Council - ECPv6.15.0.1//NONSGML v1.0//EN
CALSCALE:GREGORIAN
METHOD:PUBLISH
X-WR-CALNAME:Revolutionary Valley Regional Tourism Council
X-ORIGINAL-URL:https://revolutionaryvalley.org
X-WR-CALDESC:Events for Revolutionary Valley Regional Tourism Council
REFRESH-INTERVAL;VALUE=DURATION:PT1H
X-Robots-Tag:noindex
X-PUBLISHED-TTL:PT1H
BEGIN:VTIMEZONE
TZID:America/New_York
BEGIN:DAYLIGHT
TZOFFSETFROM:-0500
TZOFFSETTO:-0400
TZNAME:EDT
DTSTART:20260308T070000
END:DAYLIGHT
BEGIN:STANDARD
TZOFFSETFROM:-0400
TZOFFSETTO:-0500
TZNAME:EST
DTSTART:20261101T060000
END:STANDARD
END:VTIMEZONE
BEGIN:VEVENT
DTSTART;TZID=America/New_York:20260103T200000
DTEND;TZID=America/New_York:20260103T230000
DTSTAMP:20260424T195615
CREATED:20230912T190347Z
LAST-MODIFIED:20241029T131603Z
UID:10035560-1767470400-1767481200@revolutionaryvalley.org
SUMMARY:Live Greek & Middle Eastern Music and Bellydancing
DESCRIPTION:Live music and dancing featuring the Athenian Corner Ensemble
URL:https://revolutionaryvalley.org/event/live-greek-middle-eastern-music-and-bellydancing/2026-01-03/
LOCATION:Athenian Corner Restaurant\, 207 Market Street\, Lowell\, 01852\, United States
CATEGORIES:Arts & Culture,Culinary Tourism
ATTACH;FMTTYPE=image/jpeg:https://revolutionaryvalley.org/wp-content/uploads/2023/09/Ath-Corner-6.jpg
ORGANIZER;CN="Athenian Corner Restaurant":MAILTO:info@atheniancorner.com
GEO:42.6448268;-71.3123604
X-APPLE-STRUCTURED-LOCATION;VALUE=URI;X-ADDRESS=Athenian Corner Restaurant 207 Market Street Lowell 01852 United States;X-APPLE-RADIUS=500;X-TITLE=207 Market Street:geo:-71.3123604,42.6448268
END:VEVENT
BEGIN:VEVENT
DTSTART;TZID=America/New_York:20260110T200000
DTEND;TZID=America/New_York:20260110T230000
DTSTAMP:20260424T195615
CREATED:20230912T190347Z
LAST-MODIFIED:20241029T131603Z
UID:10035561-1768075200-1768086000@revolutionaryvalley.org
SUMMARY:Live Greek & Middle Eastern Music and Bellydancing
DESCRIPTION:Live music and dancing featuring the Athenian Corner Ensemble
URL:https://revolutionaryvalley.org/event/live-greek-middle-eastern-music-and-bellydancing/2026-01-10/
LOCATION:Athenian Corner Restaurant\, 207 Market Street\, Lowell\, 01852\, United States
CATEGORIES:Arts & Culture,Culinary Tourism
ATTACH;FMTTYPE=image/jpeg:https://revolutionaryvalley.org/wp-content/uploads/2023/09/Ath-Corner-6.jpg
ORGANIZER;CN="Athenian Corner Restaurant":MAILTO:info@atheniancorner.com
GEO:42.6448268;-71.3123604
X-APPLE-STRUCTURED-LOCATION;VALUE=URI;X-ADDRESS=Athenian Corner Restaurant 207 Market Street Lowell 01852 United States;X-APPLE-RADIUS=500;X-TITLE=207 Market Street:geo:-71.3123604,42.6448268
END:VEVENT
BEGIN:VEVENT
DTSTART;TZID=America/New_York:20260115T180000
DTEND;TZID=America/New_York:20260115T190000
DTSTAMP:20260424T195616
CREATED:20250925T171105Z
LAST-MODIFIED:20250925T171105Z
UID:10069942-1768500000-1768503600@revolutionaryvalley.org
SUMMARY:The Chelmsford Children's Chorus "We Are Change" Concert
DESCRIPTION:Join us for evening of choral music at the Chelmsford Center for the Arts. \nOur 2026 winter concert will feature our elementary and middle school singers. We are excited to perform the world premier of We Are Change\, a new song composed by CCC Singers and Jim Papoulis.
URL:https://revolutionaryvalley.org/event/the-chelmsford-childrens-chorus-we-are-change-concert/
LOCATION:Chelmsford Center for the Arts\, Chelmsford Center for the Arts\, 1A North Rd\, Chelmsford\, MA\, 01824\, United States
CATEGORIES:Arts & Culture,Live Performances
ATTACH;FMTTYPE=image/jpeg:https://revolutionaryvalley.org/wp-content/uploads/2026/01/20250815_CCC_067-scaled-1.jpg
ORGANIZER;CN="The Chelmsford Children's Chorus":MAILTO:info@chelmsfordchildrenschorus.org
GEO:42.5976849;-71.3520404
X-APPLE-STRUCTURED-LOCATION;VALUE=URI;X-ADDRESS=Chelmsford Center for the Arts Chelmsford Center for the Arts 1A North Rd Chelmsford MA 01824 United States;X-APPLE-RADIUS=500;X-TITLE=Chelmsford Center for the Arts\, 1A North Rd:geo:-71.3520404,42.5976849
END:VEVENT
BEGIN:VEVENT
DTSTART;TZID=America/New_York:20260117T193000
DTEND;TZID=America/New_York:20260117T220000
DTSTAMP:20260424T195616
CREATED:20251110T003220Z
LAST-MODIFIED:20251110T003220Z
UID:10070058-1768678200-1768687200@revolutionaryvalley.org
SUMMARY:Erin Ash Sullivan & Rupert Wates in Concert
DESCRIPTION:The Bedford Cultural District’s New Song Music Series presents an evening of award-winning original music with Erin Ash Sullivan and Rupert Wates on Saturday\, January 17\, 2026\, at Bedford Town Hall. \nErin Ash Sullivan’s songs are known for their lyrical honesty and sense of place. Her 2024 release Signposts and Marks debuted at #4 on the FAI Folk DJ chart\, earning praise from Americana UK as “a songwriter of the highest order.” A Falcon Ridge Folk Festival “Most Wanted” artist\, her style evokes the storytelling of Joni Mitchell and Joan Baez. \nRupert Wates\, originally from London and now based in New York and Colorado\, has earned more than 50 songwriting and performing awards. His eclectic acoustic style blends folk\, jazz\, and cabaret influences. Folk and Acoustic Music Exchange calls him “a prime figure in American music.” \nEnjoy an intimate evening of masterful songwriting and inspired performance from two celebrated contemporary folk artists.
URL:https://revolutionaryvalley.org/event/erin-ash-sullivan-rupert-wates-in-concert/
LOCATION:Bedford Town Hall\, 10 Mudge Way\, Bedford\, 01730\, United States
CATEGORIES:Arts & Culture,Live Performances
ATTACH;FMTTYPE=image/jpeg:https://revolutionaryvalley.org/wp-content/uploads/2026/01/The-Bedford-Cultural-Districts-New-Song-Music-Series-Presents-700-x-500-px.jpg
ORGANIZER;CN="Bedford Cultural District":MAILTO:info@newsongbedford.org
GEO:42.491704;-71.2817566
X-APPLE-STRUCTURED-LOCATION;VALUE=URI;X-ADDRESS=Bedford Town Hall 10 Mudge Way Bedford 01730 United States;X-APPLE-RADIUS=500;X-TITLE=10 Mudge Way:geo:-71.2817566,42.491704
END:VEVENT
BEGIN:VEVENT
DTSTART;TZID=America/New_York:20260117T200000
DTEND;TZID=America/New_York:20260117T230000
DTSTAMP:20260424T195616
CREATED:20230912T190347Z
LAST-MODIFIED:20241029T131603Z
UID:10035562-1768680000-1768690800@revolutionaryvalley.org
SUMMARY:Live Greek & Middle Eastern Music and Bellydancing
DESCRIPTION:Live music and dancing featuring the Athenian Corner Ensemble
URL:https://revolutionaryvalley.org/event/live-greek-middle-eastern-music-and-bellydancing/2026-01-17/
LOCATION:Athenian Corner Restaurant\, 207 Market Street\, Lowell\, 01852\, United States
CATEGORIES:Arts & Culture,Culinary Tourism
ATTACH;FMTTYPE=image/jpeg:https://revolutionaryvalley.org/wp-content/uploads/2023/09/Ath-Corner-6.jpg
ORGANIZER;CN="Athenian Corner Restaurant":MAILTO:info@atheniancorner.com
GEO:42.6448268;-71.3123604
X-APPLE-STRUCTURED-LOCATION;VALUE=URI;X-ADDRESS=Athenian Corner Restaurant 207 Market Street Lowell 01852 United States;X-APPLE-RADIUS=500;X-TITLE=207 Market Street:geo:-71.3123604,42.6448268
END:VEVENT
BEGIN:VEVENT
DTSTART;TZID=America/New_York:20260124T200000
DTEND;TZID=America/New_York:20260124T230000
DTSTAMP:20260424T195616
CREATED:20230912T190347Z
LAST-MODIFIED:20241029T131603Z
UID:10035563-1769284800-1769295600@revolutionaryvalley.org
SUMMARY:Live Greek & Middle Eastern Music and Bellydancing
DESCRIPTION:Live music and dancing featuring the Athenian Corner Ensemble
URL:https://revolutionaryvalley.org/event/live-greek-middle-eastern-music-and-bellydancing/2026-01-24/
LOCATION:Athenian Corner Restaurant\, 207 Market Street\, Lowell\, 01852\, United States
CATEGORIES:Arts & Culture,Culinary Tourism
ATTACH;FMTTYPE=image/jpeg:https://revolutionaryvalley.org/wp-content/uploads/2023/09/Ath-Corner-6.jpg
ORGANIZER;CN="Athenian Corner Restaurant":MAILTO:info@atheniancorner.com
GEO:42.6448268;-71.3123604
X-APPLE-STRUCTURED-LOCATION;VALUE=URI;X-ADDRESS=Athenian Corner Restaurant 207 Market Street Lowell 01852 United States;X-APPLE-RADIUS=500;X-TITLE=207 Market Street:geo:-71.3123604,42.6448268
END:VEVENT
BEGIN:VEVENT
DTSTART;TZID=America/New_York:20260131T200000
DTEND;TZID=America/New_York:20260131T230000
DTSTAMP:20260424T195616
CREATED:20230912T190347Z
LAST-MODIFIED:20241029T131603Z
UID:10035564-1769889600-1769900400@revolutionaryvalley.org
SUMMARY:Live Greek & Middle Eastern Music and Bellydancing
DESCRIPTION:Live music and dancing featuring the Athenian Corner Ensemble
URL:https://revolutionaryvalley.org/event/live-greek-middle-eastern-music-and-bellydancing/2026-01-31/
LOCATION:Athenian Corner Restaurant\, 207 Market Street\, Lowell\, 01852\, United States
CATEGORIES:Arts & Culture,Culinary Tourism
ATTACH;FMTTYPE=image/jpeg:https://revolutionaryvalley.org/wp-content/uploads/2023/09/Ath-Corner-6.jpg
ORGANIZER;CN="Athenian Corner Restaurant":MAILTO:info@atheniancorner.com
GEO:42.6448268;-71.3123604
X-APPLE-STRUCTURED-LOCATION;VALUE=URI;X-ADDRESS=Athenian Corner Restaurant 207 Market Street Lowell 01852 United States;X-APPLE-RADIUS=500;X-TITLE=207 Market Street:geo:-71.3123604,42.6448268
END:VEVENT
END:VCALENDAR