BEGIN:VCALENDAR
VERSION:2.0
PRODID:-//Revolutionary Valley Regional Tourism Council - ECPv6.15.0.1//NONSGML v1.0//EN
CALSCALE:GREGORIAN
METHOD:PUBLISH
X-WR-CALNAME:Revolutionary Valley Regional Tourism Council
X-ORIGINAL-URL:https://revolutionaryvalley.org
X-WR-CALDESC:Events for Revolutionary Valley Regional Tourism Council
REFRESH-INTERVAL;VALUE=DURATION:PT1H
X-Robots-Tag:noindex
X-PUBLISHED-TTL:PT1H
BEGIN:VTIMEZONE
TZID:America/New_York
BEGIN:DAYLIGHT
TZOFFSETFROM:-0500
TZOFFSETTO:-0400
TZNAME:EDT
DTSTART:20220313T070000
END:DAYLIGHT
BEGIN:STANDARD
TZOFFSETFROM:-0400
TZOFFSETTO:-0500
TZNAME:EST
DTSTART:20221106T060000
END:STANDARD
END:VTIMEZONE
BEGIN:VEVENT
DTSTART;TZID=America/New_York:20220803T110000
DTEND;TZID=America/New_York:20220803T234500
DTSTAMP:20260424T051407
CREATED:20220706T175258Z
LAST-MODIFIED:20220706T175258Z
UID:10025674-1659524400-1659570300@revolutionaryvalley.org
SUMMARY:Exploring China: The "Middle Kingdom" Through Music & Story with Shaw Pong Liu
DESCRIPTION:Discovery Museum is excited to welcome Shaw Pong Liu\, a Young Audiences of Massachusetts artist. From the grasslands of Mongolia to the high mountain of Yunnan\, master musician Shaw Pong Liu takes audiences on a musical journey through historical and contemporary China. Her suitcase packed with languages and musical instruments\, Shaw Pong weaves history\, geography\, the Mandarin language and Chinese folk music in a dynamic exploration of China.
URL:https://revolutionaryvalley.org/event/exploring-china-the-middle-kingdom-through-music-story-with-shaw-pong-liu/
LOCATION:Discovery Museum\, Discovery Museum\, 177 Main St\, Acton\, MA\, 01720\, United States
CATEGORIES:Kids & Family,Live Performances
ORGANIZER;CN="Discovery Museum":MAILTO:fun@discoveryacton.org
GEO:42.464745;-71.4560492
X-APPLE-STRUCTURED-LOCATION;VALUE=URI;X-ADDRESS=Discovery Museum Discovery Museum 177 Main St Acton MA 01720 United States;X-APPLE-RADIUS=500;X-TITLE=Discovery Museum\, 177 Main St:geo:-71.4560492,42.464745
END:VEVENT
END:VCALENDAR