BEGIN:VCALENDAR
VERSION:2.0
PRODID:-//Revolutionary Valley Regional Tourism Council - ECPv6.15.0.1//NONSGML v1.0//EN
CALSCALE:GREGORIAN
METHOD:PUBLISH
X-WR-CALNAME:Revolutionary Valley Regional Tourism Council
X-ORIGINAL-URL:https://revolutionaryvalley.org
X-WR-CALDESC:Events for Revolutionary Valley Regional Tourism Council
REFRESH-INTERVAL;VALUE=DURATION:PT1H
X-Robots-Tag:noindex
X-PUBLISHED-TTL:PT1H
BEGIN:VTIMEZONE
TZID:America/New_York
BEGIN:DAYLIGHT
TZOFFSETFROM:-0500
TZOFFSETTO:-0400
TZNAME:EDT
DTSTART:20220313T070000
END:DAYLIGHT
BEGIN:STANDARD
TZOFFSETFROM:-0400
TZOFFSETTO:-0500
TZNAME:EST
DTSTART:20221106T060000
END:STANDARD
END:VTIMEZONE
BEGIN:VEVENT
DTSTART;TZID=America/New_York:20220826T200000
DTEND;TZID=America/New_York:20220826T223000
DTSTAMP:20260423T105915
CREATED:20220516T133227Z
LAST-MODIFIED:20220516T133227Z
UID:10025616-1661544000-1661553000@revolutionaryvalley.org
SUMMARY:Heartless
DESCRIPTION:HEARTLESS is the Ultimate New England Tribute to Ann Wilson of Heart and Led Zeppelin!\nThis band packs the house with each gig with fans who sing along with their classic Heart songs and Led Zeppelin covers commonly covered by Heart throughout their decades of tour.\nJasmine White\, lead vocal\, brings all the vocal flavors and personality of Ann Wilson alive.\nFree for Kids under the age of 10
URL:https://revolutionaryvalley.org/event/heartless/
LOCATION:NARA Park\, Nara Park\, 25 Ledge Rock Way\, Acton\, MA\, 01720\, United States
CATEGORIES:Arts & Culture,Live Performances,Outdoors
ATTACH;FMTTYPE=image/jpeg:https://revolutionaryvalley.org/wp-content/uploads/2022/05/Heartless-flyer-2022-scaled.jpg
ORGANIZER;CN="Haberman":MAILTO:mhaberman@acton-ma.gov
GEO:42.5160594;-71.4119872
X-APPLE-STRUCTURED-LOCATION;VALUE=URI;X-ADDRESS=NARA Park Nara Park 25 Ledge Rock Way Acton MA 01720 United States;X-APPLE-RADIUS=500;X-TITLE=Nara Park\, 25 Ledge Rock Way:geo:-71.4119872,42.5160594
END:VEVENT
END:VCALENDAR