BEGIN:VCALENDAR
VERSION:2.0
PRODID:-//Revolutionary Valley Regional Tourism Council - ECPv6.15.0.1//NONSGML v1.0//EN
CALSCALE:GREGORIAN
METHOD:PUBLISH
X-WR-CALNAME:Revolutionary Valley Regional Tourism Council
X-ORIGINAL-URL:https://revolutionaryvalley.org
X-WR-CALDESC:Events for Revolutionary Valley Regional Tourism Council
REFRESH-INTERVAL;VALUE=DURATION:PT1H
X-Robots-Tag:noindex
X-PUBLISHED-TTL:PT1H
BEGIN:VTIMEZONE
TZID:America/New_York
BEGIN:DAYLIGHT
TZOFFSETFROM:-0500
TZOFFSETTO:-0400
TZNAME:EDT
DTSTART:20230312T070000
END:DAYLIGHT
BEGIN:STANDARD
TZOFFSETFROM:-0400
TZOFFSETTO:-0500
TZNAME:EST
DTSTART:20231105T060000
END:STANDARD
END:VTIMEZONE
BEGIN:VEVENT
DTSTART;TZID=America/New_York:20231029T100000
DTEND;TZID=America/New_York:20231029T140000
DTSTAMP:20260420T064618
CREATED:20230420T135757Z
LAST-MODIFIED:20230420T135757Z
UID:10026644-1698573600-1698588000@revolutionaryvalley.org
SUMMARY:Halloween 6th Annual Craft & Vendor Fair
DESCRIPTION:Halloween 6th Annual Craft & Vendor Fair\nOct 29th\n10a-2p\nChelmsford Elks\n300 Littleton Rd\nChelmsford\, MA \n30 Plus Vendors\nRaffle Table\nFree Admission\nCash Bar \nBring the kids dressed in costume & let them Trick Or Treat our vendors\n*1st 100 kids will receive a Trick Or Treat Bag\n*Events By The Purple Butterfly is the ONLY contact for this event
URL:https://revolutionaryvalley.org/event/halloween-6th-annual-craft-vendor-fair/
LOCATION:97 University Ave\, Lowell\, MA\, 01854\, United States
CATEGORIES:Fairs & Festivals,Free Events,Kids & Family
ATTACH;FMTTYPE=image/jpeg:https://revolutionaryvalley.org/wp-content/uploads/2023/04/halloween-facebook-cover-Made-with-PosterMyWall.jpg
END:VEVENT
END:VCALENDAR