BEGIN:VCALENDAR
VERSION:2.0
PRODID:-//Revolutionary Valley Regional Tourism Council - ECPv6.15.0.1//NONSGML v1.0//EN
CALSCALE:GREGORIAN
METHOD:PUBLISH
X-ORIGINAL-URL:https://revolutionaryvalley.org
X-WR-CALDESC:Events for Revolutionary Valley Regional Tourism Council
REFRESH-INTERVAL;VALUE=DURATION:PT1H
X-Robots-Tag:noindex
X-PUBLISHED-TTL:PT1H
BEGIN:VTIMEZONE
TZID:America/New_York
BEGIN:DAYLIGHT
TZOFFSETFROM:-0500
TZOFFSETTO:-0400
TZNAME:EDT
DTSTART:20260308T070000
END:DAYLIGHT
BEGIN:STANDARD
TZOFFSETFROM:-0400
TZOFFSETTO:-0500
TZNAME:EST
DTSTART:20261101T060000
END:STANDARD
END:VTIMEZONE
BEGIN:VEVENT
DTSTART;TZID=America/New_York:20260307T150000
DTEND;TZID=America/New_York:20260307T170000
DTSTAMP:20260424T115453
CREATED:20260209T141543Z
LAST-MODIFIED:20260209T141543Z
UID:10071585-1772895600-1772902800@revolutionaryvalley.org
SUMMARY:FLICKERING FUTURES | March 4 – March 29\, 2026| Reception on Saturday March 7\, 3 - 5 pm| Loading Dock Gallery
DESCRIPTION:Show: Flickering Futures – 9th Annual Greater Lowell Regional Art Show\nShow dates: March 4 – March 29\, 2026\nReception: Saturday\, March 7\, 3–5 PM \nLoading Dock Gallery is proud to present *Flickering Futures*\, the 9th Annual Greater Lowell Regional Art Show\, on view from March 4 through March 29\, 2026. This annual exhibition showcases artwork by student artists from high schools across the Greater Lowell region\, offering a platform for emerging voices to reflect on the present while imagining what the future may hold. \nThe title *Flickering Futures* speaks to the ever-changing relationship between young artists and the world around them. Through mixed media works\, students explore themes of future\, change\, difference\, uncertainty\, and self—sharing personal perspectives shaped by current events\, individual experience\, and creative curiosity. For many participants\, this exhibition marks one of their first opportunities to present work in a professional gallery setting. \nFeatured students come from Innovation Academy Charter School\, Billerica Memorial High School\, Chelmsford High School\, Dracut High School\, Groton-Dunstable High School\, Lowell Catholic High School\, Lowell High School\, Lunenburg High School\, Notre Dame Academy and Tyngsborough High School. The artwork has been created within the past year through school art programs or independent practice. \nA public reception will be held on Saturday\, March 7\, 2026. The exhibition is free and open to the public.\nLoading Dock Gallery is part of Loading Dock Arts\, Inc.\, a 501(c)(3). For more information\, visit www.theloadingdockgallery.com.
URL:https://revolutionaryvalley.org/event/flickering-futures-march-4-march-29-2026-reception-on-saturday-march-7-3-5-pm-loading-dock-gallery/
LOCATION:Loading Dock Gallery\, 122 Western Avenue\, Lowell\, MA\, United States
CATEGORIES:Arts & Culture,Exhibits,Free Events
ATTACH;FMTTYPE=image/jpeg:https://revolutionaryvalley.org/wp-content/uploads/2026/02/Flickering-futures.jpg
GEO:42.6398431;-71.3192968
X-APPLE-STRUCTURED-LOCATION;VALUE=URI;X-ADDRESS=Loading Dock Gallery 122 Western Avenue Lowell MA United States;X-APPLE-RADIUS=500;X-TITLE=122 Western Avenue:geo:-71.3192968,42.6398431
END:VEVENT
BEGIN:VEVENT
DTSTART;TZID=America/New_York:20260322T110000
DTEND;TZID=America/New_York:20260322T150000
DTSTAMP:20260424T115453
CREATED:20251201T200704Z
LAST-MODIFIED:20251201T200704Z
UID:10070497-1774177200-1774191600@revolutionaryvalley.org
SUMMARY:Easter Egg-Stravaganza 4th Annual Craft & Vendor Fair
DESCRIPTION:Mark your calendar & join us for our Easter Egg-Stravaganza 4th Annual Craft & Vendor Fair! \nOn March 22nd from 11a-3p head on over to the Tyngsboro Sportsmen’s Club\, located at 90 Westford St in Tyngsboro\, MA. \nThis fantastic fair promises a pleasant shopping experience\, with over 25 amazing vendors showcasing their products\, including attractive homemade crafts\, special gifts\, and tasty treats to help fill your Easter Baskets. \nLink to the event page: https://www.facebook.com/share/1BwgNgBpr1 \nEvents By The Purple Butterfly is the only contact for this event
URL:https://revolutionaryvalley.org/event/easter-egg-stravaganza-4th-annual-craft-vendor-fair/
LOCATION:The Sportsmen’s Club\, 90 Westford Rd\, Tyngsboro\, 01879\, United States
CATEGORIES:Annual & Special,Fairs & Festivals,Free Events,Kids & Family
ATTACH;FMTTYPE=image/jpeg:https://revolutionaryvalley.org/wp-content/uploads/2026/01/Happy-Easter-Greeting-Flyer-Design-2-Made-with-PosterMyWall-3.jpg
GEO:42.6607829;-71.4247254
X-APPLE-STRUCTURED-LOCATION;VALUE=URI;X-ADDRESS=The Sportsmen’s Club 90 Westford Rd Tyngsboro 01879 United States;X-APPLE-RADIUS=500;X-TITLE=90 Westford Rd:geo:-71.4247254,42.6607829
END:VEVENT
END:VCALENDAR