BEGIN:VCALENDAR
VERSION:2.0
PRODID:-//Revolutionary Valley Regional Tourism Council - ECPv6.15.0.1//NONSGML v1.0//EN
CALSCALE:GREGORIAN
METHOD:PUBLISH
X-ORIGINAL-URL:https://revolutionaryvalley.org
X-WR-CALDESC:Events for Revolutionary Valley Regional Tourism Council
REFRESH-INTERVAL;VALUE=DURATION:PT1H
X-Robots-Tag:noindex
X-PUBLISHED-TTL:PT1H
BEGIN:VTIMEZONE
TZID:America/New_York
BEGIN:DAYLIGHT
TZOFFSETFROM:-0500
TZOFFSETTO:-0400
TZNAME:EDT
DTSTART:20260308T070000
END:DAYLIGHT
BEGIN:STANDARD
TZOFFSETFROM:-0400
TZOFFSETTO:-0500
TZNAME:EST
DTSTART:20261101T060000
END:STANDARD
END:VTIMEZONE
BEGIN:VEVENT
DTSTART;VALUE=DATE:20260216
DTEND;VALUE=DATE:20260221
DTSTAMP:20260424T071904
CREATED:20260206T193943Z
LAST-MODIFIED:20260206T194039Z
UID:10071581-1771200000-1771631999@revolutionaryvalley.org
SUMMARY:Acton Hill Top Program
DESCRIPTION:Make the most of school days off with our fun program designed to keep kids engaged and entertained. With a focus on supervised play\, our rec program offers and indoor/outdoor environment where kids make new friends and discover new interests. Join us for a day filled with laughter and enjoyment! \nProgram runs from 9:00 AM – 4:00 PM\, or 9:00 AM -1:00 PM on half days. \nPricing is $50/day ($29/half day). You get to pick and choose the days you need care.  Please note that many times this program fills up so don’t delay and plan today! \nOur school vacation program is designed to keep children entertained\, active\, and engaged during their break from school. With a diverse range of activities including sports\, arts and crafts workshops\, science experiments\, and outdoor adventures\, our participants have the opportunity to explore\, learn\, and have fun in a safe and supportive environment. Instructors lead engaging sessions that foster curiosity\, creativity\, and teamwork. With a focus on safety and opportunities for socialization\, this program ensures that participants leave with cherished memories\, new friends\, and a sense of accomplishment. \nProgram Location: \nActon Recreation Center\, 50 Audubon Drive\, Acton\, MA
URL:https://revolutionaryvalley.org/event/acton-hill-top-program/
LOCATION:Acton Recreation Center\, 50 Audubon Drive\, Acton\, MA\, 01720\, United States
CATEGORIES:Kids & Family
ATTACH;FMTTYPE=image/png:https://revolutionaryvalley.org/wp-content/uploads/2026/02/ChatGPT-Image-Feb-6-2026-02_32_12-PM.png
GEO:42.4562805;-71.4491847
X-APPLE-STRUCTURED-LOCATION;VALUE=URI;X-ADDRESS=Acton Recreation Center 50 Audubon Drive Acton MA 01720 United States;X-APPLE-RADIUS=500;X-TITLE=50 Audubon Drive:geo:-71.4491847,42.4562805
END:VEVENT
END:VCALENDAR