BEGIN:VCALENDAR
VERSION:2.0
PRODID:-//Revolutionary Valley Regional Tourism Council - ECPv6.15.0.1//NONSGML v1.0//EN
CALSCALE:GREGORIAN
METHOD:PUBLISH
X-ORIGINAL-URL:https://revolutionaryvalley.org
X-WR-CALDESC:Events for Revolutionary Valley Regional Tourism Council
REFRESH-INTERVAL;VALUE=DURATION:PT1H
X-Robots-Tag:noindex
X-PUBLISHED-TTL:PT1H
BEGIN:VTIMEZONE
TZID:America/New_York
BEGIN:DAYLIGHT
TZOFFSETFROM:-0500
TZOFFSETTO:-0400
TZNAME:EDT
DTSTART:20230312T070000
END:DAYLIGHT
BEGIN:STANDARD
TZOFFSETFROM:-0400
TZOFFSETTO:-0500
TZNAME:EST
DTSTART:20231105T060000
END:STANDARD
BEGIN:DAYLIGHT
TZOFFSETFROM:-0500
TZOFFSETTO:-0400
TZNAME:EDT
DTSTART:20240310T070000
END:DAYLIGHT
BEGIN:STANDARD
TZOFFSETFROM:-0400
TZOFFSETTO:-0500
TZNAME:EST
DTSTART:20241103T060000
END:STANDARD
END:VTIMEZONE
BEGIN:VEVENT
DTSTART;TZID=America/New_York:20240413T100000
DTEND;TZID=America/New_York:20240413T120000
DTSTAMP:20260425T212615
CREATED:20240401T151045Z
LAST-MODIFIED:20240401T151045Z
UID:10052808-1713002400-1713009600@revolutionaryvalley.org
SUMMARY:Lowell PLAYcation: Bookmobile Visit
DESCRIPTION:Visit the librarians of the Pollard Memorial Library bookmobile at several of the PLAYcation events! Discover a new book that you can check out that day and even sign up for your own free library card! Find out more at https://lowelllibrary.org/services/bookmobile/.
URL:https://revolutionaryvalley.org/event/lowell-playcation-bookmobile-visit/2024-04-13/
LOCATION:Boarding House Park\, Boarding House Park\, 40 French St\, Lowell\, MA\, United States
CATEGORIES:Kids & Family
ATTACH;FMTTYPE=image/png:https://revolutionaryvalley.org/wp-content/uploads/2024/03/PLAYcation-Logo-3.png
GEO:42.647362;-71.3088716
X-APPLE-STRUCTURED-LOCATION;VALUE=URI;X-ADDRESS=Boarding House Park Boarding House Park 40 French St Lowell MA United States;X-APPLE-RADIUS=500;X-TITLE=Boarding House Park\, 40 French St:geo:-71.3088716,42.647362
END:VEVENT
BEGIN:VEVENT
DTSTART;TZID=America/New_York:20230818T193000
DTEND;TZID=America/New_York:20230818T213000
DTSTAMP:20260425T212615
CREATED:20230127T172559Z
LAST-MODIFIED:20230127T172559Z
UID:10025816-1692387000-1692394200@revolutionaryvalley.org
SUMMARY:Classic Albums Live: Creedence Clearwater Revival - Chronicle Vol. 1
DESCRIPTION:Join us for an evening of live music by Classic Albums Live presenting Creedence Clearwater Revival’s Chronicle Vol. 1\, their greatest hits album\, note for note\, cut for cut! \nClassic Albums Live takes classic albums from the 60s and 70s and recreates those albums live on stage – note for note\, cut for cut. Using the world’s best musicians\, fans are treated to an exact replication of the album. \nCreedence Clearwater Revival was America’s greatest band. Their music got an entire continent rocking\, hit after hit\, no other band delivers that big a collection of instantly recognizable\, toe tapping songs. Classic Albums Live will honor the legacy of CCR by performing all 20 hits from their ‘Chronicles’ album with joy and dedication from Bad Moon Rising\, Proud Mary and Green River to Fortunate Son and Have You Seen The Rain. It’s a double album: first set is album one and second set is album two. \nWith 100+ shows a year across North America\, Classic Albums Live has seen massive success. “These albums are sacred to people. We deliver exactly what we promote – ‘note for note\, cut for cut’ accuracy.” \nhttps://www.classicalbumslive.com/ \nPremium Seats are available in the first several rows for each show. Go to the seat map on the ticketing page for each show to see the actual layout.  \nKids age 12 and under are admitted free (general admission seats only) if accompanied by a ticket holder\, courtesy of Jeanne D’Arc Credit Union. \nAll sales are final. No request for cancellations\, exchanges\, changes or refunds shall be honored.
URL:https://revolutionaryvalley.org/event/classic-albums-live-creedence-clearwater-revival-chronicle-vol-1/
LOCATION:Boarding House Park\, Boarding House Park\, 40 French St\, Lowell\, MA\, United States
CATEGORIES:Google Events
ATTACH;FMTTYPE=image/jpeg:https://revolutionaryvalley.org/wp-content/uploads/2023/01/1267467045.jpg
GEO:42.647362;-71.3088716
X-APPLE-STRUCTURED-LOCATION;VALUE=URI;X-ADDRESS=Boarding House Park Boarding House Park 40 French St Lowell MA United States;X-APPLE-RADIUS=500;X-TITLE=Boarding House Park\, 40 French St:geo:-71.3088716,42.647362
END:VEVENT
END:VCALENDAR