BEGIN:VCALENDAR
VERSION:2.0
PRODID:-//Revolutionary Valley Regional Tourism Council - ECPv6.15.0.1//NONSGML v1.0//EN
CALSCALE:GREGORIAN
METHOD:PUBLISH
X-WR-CALNAME:Revolutionary Valley Regional Tourism Council
X-ORIGINAL-URL:https://revolutionaryvalley.org
X-WR-CALDESC:Events for Revolutionary Valley Regional Tourism Council
REFRESH-INTERVAL;VALUE=DURATION:PT1H
X-Robots-Tag:noindex
X-PUBLISHED-TTL:PT1H
BEGIN:VTIMEZONE
TZID:America/New_York
BEGIN:DAYLIGHT
TZOFFSETFROM:-0500
TZOFFSETTO:-0400
TZNAME:EDT
DTSTART:20220313T070000
END:DAYLIGHT
BEGIN:STANDARD
TZOFFSETFROM:-0400
TZOFFSETTO:-0500
TZNAME:EST
DTSTART:20221106T060000
END:STANDARD
END:VTIMEZONE
BEGIN:VEVENT
DTSTART;TZID=America/New_York:20221125T110000
DTEND;TZID=America/New_York:20221125T123000
DTSTAMP:20260420T055728
CREATED:20221026T141848Z
LAST-MODIFIED:20221026T141848Z
UID:10025739-1669374000-1669379400@revolutionaryvalley.org
SUMMARY:Indigenous People of Concord Walking Tour
DESCRIPTION:This 75 minute tour looks at the over 10\,000 year history of native people in Concord (Musketaquid). Starting with the mighty Mill Brook\, we will meander down Main Street and up to the Calf Pasture on Lowell Road examining how native people lived by the 3 rivers of Concord (Musketaquid) and what happened when two cultures collided after European fur traders came and then English settlers in 1635.
URL:https://revolutionaryvalley.org/event/indigenous-people-of-concord-walking-tour/2022-11-25/
LOCATION:Concord Visitor Center\, Concord Visitor Center\, 58 Main St\, Concord\, MA\, 01742\, United States
CATEGORIES:Historical
ATTACH;FMTTYPE=image/jpeg:https://revolutionaryvalley.org/wp-content/uploads/2022/10/Indigenous-people-tour-concord.jpeg
ORGANIZER;CN="Concord Visitor Center":MAILTO:visitors@concordma.gov
GEO:42.4602006;-71.3509612
X-APPLE-STRUCTURED-LOCATION;VALUE=URI;X-ADDRESS=Concord Visitor Center Concord Visitor Center 58 Main St Concord MA 01742 United States;X-APPLE-RADIUS=500;X-TITLE=Concord Visitor Center\, 58 Main St:geo:-71.3509612,42.4602006
END:VEVENT
BEGIN:VEVENT
DTSTART;TZID=America/New_York:20221120T110000
DTEND;TZID=America/New_York:20221120T123000
DTSTAMP:20260420T055728
CREATED:20221026T141848Z
LAST-MODIFIED:20221026T141848Z
UID:10025738-1668942000-1668947400@revolutionaryvalley.org
SUMMARY:Indigenous People of Concord Walking Tour
DESCRIPTION:This 75 minute tour looks at the over 10\,000 year history of native people in Concord (Musketaquid). Starting with the mighty Mill Brook\, we will meander down Main Street and up to the Calf Pasture on Lowell Road examining how native people lived by the 3 rivers of Concord (Musketaquid) and what happened when two cultures collided after European fur traders came and then English settlers in 1635.
URL:https://revolutionaryvalley.org/event/indigenous-people-of-concord-walking-tour/2022-11-20/
LOCATION:Concord Visitor Center\, Concord Visitor Center\, 58 Main St\, Concord\, MA\, 01742\, United States
CATEGORIES:Historical
ATTACH;FMTTYPE=image/jpeg:https://revolutionaryvalley.org/wp-content/uploads/2022/10/Indigenous-people-tour-concord.jpeg
ORGANIZER;CN="Concord Visitor Center":MAILTO:visitors@concordma.gov
GEO:42.4602006;-71.3509612
X-APPLE-STRUCTURED-LOCATION;VALUE=URI;X-ADDRESS=Concord Visitor Center Concord Visitor Center 58 Main St Concord MA 01742 United States;X-APPLE-RADIUS=500;X-TITLE=Concord Visitor Center\, 58 Main St:geo:-71.3509612,42.4602006
END:VEVENT
BEGIN:VEVENT
DTSTART;TZID=America/New_York:20221119T110000
DTEND;TZID=America/New_York:20221119T123000
DTSTAMP:20260420T055728
CREATED:20221026T141848Z
LAST-MODIFIED:20221026T141848Z
UID:10025737-1668855600-1668861000@revolutionaryvalley.org
SUMMARY:Indigenous People of Concord Walking Tour
DESCRIPTION:This 75 minute tour looks at the over 10\,000 year history of native people in Concord (Musketaquid). Starting with the mighty Mill Brook\, we will meander down Main Street and up to the Calf Pasture on Lowell Road examining how native people lived by the 3 rivers of Concord (Musketaquid) and what happened when two cultures collided after European fur traders came and then English settlers in 1635.
URL:https://revolutionaryvalley.org/event/indigenous-people-of-concord-walking-tour/2022-11-19/
LOCATION:Concord Visitor Center\, Concord Visitor Center\, 58 Main St\, Concord\, MA\, 01742\, United States
CATEGORIES:Historical
ATTACH;FMTTYPE=image/jpeg:https://revolutionaryvalley.org/wp-content/uploads/2022/10/Indigenous-people-tour-concord.jpeg
ORGANIZER;CN="Concord Visitor Center":MAILTO:visitors@concordma.gov
GEO:42.4602006;-71.3509612
X-APPLE-STRUCTURED-LOCATION;VALUE=URI;X-ADDRESS=Concord Visitor Center Concord Visitor Center 58 Main St Concord MA 01742 United States;X-APPLE-RADIUS=500;X-TITLE=Concord Visitor Center\, 58 Main St:geo:-71.3509612,42.4602006
END:VEVENT
BEGIN:VEVENT
DTSTART;TZID=America/New_York:20221113T140000
DTEND;TZID=America/New_York:20221113T153000
DTSTAMP:20260420T055728
CREATED:20221026T141848Z
LAST-MODIFIED:20221026T141848Z
UID:10025736-1668348000-1668353400@revolutionaryvalley.org
SUMMARY:Indigenous People of Concord Walking Tour
DESCRIPTION:This 75 minute tour looks at the over 10\,000 year history of native people in Concord (Musketaquid). Starting with the mighty Mill Brook\, we will meander down Main Street and up to the Calf Pasture on Lowell Road examining how native people lived by the 3 rivers of Concord (Musketaquid) and what happened when two cultures collided after European fur traders came and then English settlers in 1635.
URL:https://revolutionaryvalley.org/event/indigenous-people-of-concord-walking-tour/2022-11-13/
LOCATION:Concord Visitor Center\, Concord Visitor Center\, 58 Main St\, Concord\, MA\, 01742\, United States
CATEGORIES:Historical
ATTACH;FMTTYPE=image/jpeg:https://revolutionaryvalley.org/wp-content/uploads/2022/10/Indigenous-people-tour-concord.jpeg
ORGANIZER;CN="Concord Visitor Center":MAILTO:visitors@concordma.gov
GEO:42.4602006;-71.3509612
X-APPLE-STRUCTURED-LOCATION;VALUE=URI;X-ADDRESS=Concord Visitor Center Concord Visitor Center 58 Main St Concord MA 01742 United States;X-APPLE-RADIUS=500;X-TITLE=Concord Visitor Center\, 58 Main St:geo:-71.3509612,42.4602006
END:VEVENT
BEGIN:VEVENT
DTSTART;TZID=America/New_York:20221112T110000
DTEND;TZID=America/New_York:20221112T123000
DTSTAMP:20260420T055728
CREATED:20221026T141745Z
LAST-MODIFIED:20221026T141745Z
UID:10025732-1668250800-1668256200@revolutionaryvalley.org
SUMMARY:African-American History of Concord Walking Tour
DESCRIPTION:Learn about Concord’s African-American history on this 90 minute walking tour (about 2 miles). The tour will visit sites highlighting Concord’s history around enslavement\, the first generation of self emancipated African-Americans and the growth of Abolitionism. Guests will visit sites that tell the story of John Jack\, Brister Freeman and Concord’s heroic native son Pvt. George Washington Dugan who served in one of the first African American regiments of the Civil War. Guests will learn about how families like the Robbins\, Garrisons and Hutchinsons strived to support themselves on the land and in the town and worked to shape their own destinies as free men and women. The tour departs from the Visitor Center at 58 Main Street.
URL:https://revolutionaryvalley.org/event/african-american-history-of-concord-walking-tour-2/2022-11-12/
LOCATION:Concord Visitor Center\, Concord Visitor Center\, 58 Main St\, Concord\, MA\, 01742\, United States
CATEGORIES:Historical
ATTACH;FMTTYPE=image/jpeg:https://revolutionaryvalley.org/wp-content/uploads/2022/10/African-American-history-tour.jpg
ORGANIZER;CN="Concord Visitor Center":MAILTO:visitors@concordma.gov
GEO:42.4602006;-71.3509612
X-APPLE-STRUCTURED-LOCATION;VALUE=URI;X-ADDRESS=Concord Visitor Center Concord Visitor Center 58 Main St Concord MA 01742 United States;X-APPLE-RADIUS=500;X-TITLE=Concord Visitor Center\, 58 Main St:geo:-71.3509612,42.4602006
END:VEVENT
BEGIN:VEVENT
DTSTART;TZID=America/New_York:20221111T140000
DTEND;TZID=America/New_York:20221111T153000
DTSTAMP:20260420T055728
CREATED:20221026T141745Z
LAST-MODIFIED:20221026T141745Z
UID:10025731-1668175200-1668180600@revolutionaryvalley.org
SUMMARY:African-American History of Concord Walking Tour
DESCRIPTION:Learn about Concord’s African-American history on this 90 minute walking tour (about 2 miles). The tour will visit sites highlighting Concord’s history around enslavement\, the first generation of self emancipated African-Americans and the growth of Abolitionism. Guests will visit sites that tell the story of John Jack\, Brister Freeman and Concord’s heroic native son Pvt. George Washington Dugan who served in one of the first African American regiments of the Civil War. Guests will learn about how families like the Robbins\, Garrisons and Hutchinsons strived to support themselves on the land and in the town and worked to shape their own destinies as free men and women. The tour departs from the Visitor Center at 58 Main Street.
URL:https://revolutionaryvalley.org/event/african-american-history-of-concord-walking-tour-2/2022-11-11/
LOCATION:Concord Visitor Center\, Concord Visitor Center\, 58 Main St\, Concord\, MA\, 01742\, United States
CATEGORIES:Historical
ATTACH;FMTTYPE=image/jpeg:https://revolutionaryvalley.org/wp-content/uploads/2022/10/African-American-history-tour.jpg
ORGANIZER;CN="Concord Visitor Center":MAILTO:visitors@concordma.gov
GEO:42.4602006;-71.3509612
X-APPLE-STRUCTURED-LOCATION;VALUE=URI;X-ADDRESS=Concord Visitor Center Concord Visitor Center 58 Main St Concord MA 01742 United States;X-APPLE-RADIUS=500;X-TITLE=Concord Visitor Center\, 58 Main St:geo:-71.3509612,42.4602006
END:VEVENT
BEGIN:VEVENT
DTSTART;TZID=America/New_York:20221106T140000
DTEND;TZID=America/New_York:20221106T153000
DTSTAMP:20260420T055728
CREATED:20221026T141745Z
LAST-MODIFIED:20221026T141745Z
UID:10025730-1667743200-1667748600@revolutionaryvalley.org
SUMMARY:African-American History of Concord Walking Tour
DESCRIPTION:Learn about Concord’s African-American history on this 90 minute walking tour (about 2 miles). The tour will visit sites highlighting Concord’s history around enslavement\, the first generation of self emancipated African-Americans and the growth of Abolitionism. Guests will visit sites that tell the story of John Jack\, Brister Freeman and Concord’s heroic native son Pvt. George Washington Dugan who served in one of the first African American regiments of the Civil War. Guests will learn about how families like the Robbins\, Garrisons and Hutchinsons strived to support themselves on the land and in the town and worked to shape their own destinies as free men and women. The tour departs from the Visitor Center at 58 Main Street.
URL:https://revolutionaryvalley.org/event/african-american-history-of-concord-walking-tour-2/2022-11-06/
LOCATION:Concord Visitor Center\, Concord Visitor Center\, 58 Main St\, Concord\, MA\, 01742\, United States
CATEGORIES:Historical
ATTACH;FMTTYPE=image/jpeg:https://revolutionaryvalley.org/wp-content/uploads/2022/10/African-American-history-tour.jpg
ORGANIZER;CN="Concord Visitor Center":MAILTO:visitors@concordma.gov
GEO:42.4602006;-71.3509612
X-APPLE-STRUCTURED-LOCATION;VALUE=URI;X-ADDRESS=Concord Visitor Center Concord Visitor Center 58 Main St Concord MA 01742 United States;X-APPLE-RADIUS=500;X-TITLE=Concord Visitor Center\, 58 Main St:geo:-71.3509612,42.4602006
END:VEVENT
BEGIN:VEVENT
DTSTART;TZID=America/New_York:20221105T110000
DTEND;TZID=America/New_York:20221105T123000
DTSTAMP:20260420T055728
CREATED:20221026T141603Z
LAST-MODIFIED:20221026T141603Z
UID:10025729-1667646000-1667651400@revolutionaryvalley.org
SUMMARY:Women of Concord Walking Tour
DESCRIPTION:In a town famous for the independent spirit of its people\, Concord’s women have always been leaders\, fighting for justice and creating a uniquely American vision in literature and art. Come with us to hear the stories of these remarkable women\, and see the places where they made their mark. \nThe Women of Concord Tour will meet in front of the Old Manse at 269 Monument Street (park across the street in the Minute Man parking lot) and continue into Concord Center. Tour is approximately 90 minutes. \nTours are also available by request for groups of 4 or more. Price is $25 per person. \nCall 978-318-3061 or email visitors@concordma.gov to schedule your tour.
URL:https://revolutionaryvalley.org/event/women-of-concord-walking-tour/
LOCATION:Concord Visitor Center\, Concord Visitor Center\, 58 Main St\, Concord\, MA\, 01742\, United States
CATEGORIES:Historical
ATTACH;FMTTYPE=image/jpeg:https://revolutionaryvalley.org/wp-content/uploads/2022/10/Women-of-Concord-walking-tour.jpeg
ORGANIZER;CN="Concord Visitor Center":MAILTO:visitors@concordma.gov
GEO:42.4602006;-71.3509612
X-APPLE-STRUCTURED-LOCATION;VALUE=URI;X-ADDRESS=Concord Visitor Center Concord Visitor Center 58 Main St Concord MA 01742 United States;X-APPLE-RADIUS=500;X-TITLE=Concord Visitor Center\, 58 Main St:geo:-71.3509612,42.4602006
END:VEVENT
END:VCALENDAR