BEGIN:VCALENDAR
VERSION:2.0
PRODID:-//Revolutionary Valley Regional Tourism Council - ECPv6.15.0.1//NONSGML v1.0//EN
CALSCALE:GREGORIAN
METHOD:PUBLISH
X-ORIGINAL-URL:https://revolutionaryvalley.org
X-WR-CALDESC:Events for Revolutionary Valley Regional Tourism Council
REFRESH-INTERVAL;VALUE=DURATION:PT1H
X-Robots-Tag:noindex
X-PUBLISHED-TTL:PT1H
BEGIN:VTIMEZONE
TZID:America/New_York
BEGIN:DAYLIGHT
TZOFFSETFROM:-0500
TZOFFSETTO:-0400
TZNAME:EDT
DTSTART:20230312T070000
END:DAYLIGHT
BEGIN:STANDARD
TZOFFSETFROM:-0400
TZOFFSETTO:-0500
TZNAME:EST
DTSTART:20231105T060000
END:STANDARD
BEGIN:DAYLIGHT
TZOFFSETFROM:-0500
TZOFFSETTO:-0400
TZNAME:EDT
DTSTART:20240310T070000
END:DAYLIGHT
BEGIN:STANDARD
TZOFFSETFROM:-0400
TZOFFSETTO:-0500
TZNAME:EST
DTSTART:20241103T060000
END:STANDARD
BEGIN:DAYLIGHT
TZOFFSETFROM:-0500
TZOFFSETTO:-0400
TZNAME:EDT
DTSTART:20250309T070000
END:DAYLIGHT
BEGIN:STANDARD
TZOFFSETFROM:-0400
TZOFFSETTO:-0500
TZNAME:EST
DTSTART:20251102T060000
END:STANDARD
BEGIN:DAYLIGHT
TZOFFSETFROM:-0500
TZOFFSETTO:-0400
TZNAME:EDT
DTSTART:20260308T070000
END:DAYLIGHT
BEGIN:STANDARD
TZOFFSETFROM:-0400
TZOFFSETTO:-0500
TZNAME:EST
DTSTART:20261101T060000
END:STANDARD
END:VTIMEZONE
BEGIN:VEVENT
DTSTART;TZID=America/New_York:20260410T180000
DTEND;TZID=America/New_York:20260410T200000
DTSTAMP:20260424T014031
CREATED:20260327T015400Z
LAST-MODIFIED:20260327T015400Z
UID:10071630-1775844000-1775851200@revolutionaryvalley.org
SUMMARY:DIY Lowell Announces 2026 Community Award Winners and Invites Public to Community Chill Night
DESCRIPTION:DIY Lowell’s Community Chill Night\, an evening of food\, music\, and community connection. The event features a chili and stew competition with youth\, adult\, and restaurant categories; entertainment and family-friendly activities; a community awards presentation; and a cash bar. The event also has a famous “Do-it-Yourself” Sundae bar with ice cream and a wide variety of toppings.\nIt will be held Friday\, April 10\, 6:00–8:00 PM at the Overlook\, Lowell Community Charter Public School\, 250 Jackson Street\, 5th Floor. A donation of $10 in advance or $15 the day of the event is suggested\, but nobody will be turned away. Proceeds from the event support DIY Lowell’s 2026 community programming. \nDIY Lowell is proud to announce the recipients of its 2026 Community Awards and invites residents\, supporters\, and members of the press to celebrate at the 8th Annual Community Chill Night: Chili & Stew Contest on April 10. This year’s honorees reflect the spirit of grassroots leadership\, cultural celebration\, and community care that define Lowell.
URL:https://revolutionaryvalley.org/event/diy-lowell-announces-2026-community-award-winners-and-invites-public-to-community-chill-night/
LOCATION:The Overlook
CATEGORIES:Culinary Tourism
ATTACH;FMTTYPE=image/jpeg:https://revolutionaryvalley.org/wp-content/uploads/2026/03/DIY-Lowell-Chill-Night.jpg
ORGANIZER;CN="Do-it-Yourself (DIY) Lowell":MAILTO:info@diylowell.org
END:VEVENT
BEGIN:VEVENT
DTSTART;TZID=America/New_York:20241011T180000
DTEND;TZID=America/New_York:20241011T193000
DTSTAMP:20260424T014031
CREATED:20240923T130000Z
LAST-MODIFIED:20240923T130000Z
UID:10057851-1728669600-1728675000@revolutionaryvalley.org
SUMMARY:Use Poetry: A Lowell Celebrates Kerouac reading and discussion.
DESCRIPTION:Poets Tanya Grae\, Ariella Ruth\, and Linda Bratcher Wlodyka will read their work and join poet and UMASS Lowell Associate Professor Maggie Dietz for a discussion of Jack Kerouac’s influence and legacy as a poet. \nA $20.00 cover charge is requested to support Lowell Celebrates Kerouac. Day passes for $30 are also available\,
URL:https://revolutionaryvalley.org/event/use-poetry-a-lowell-celebrates-kerouac-reading-and-discussion/
LOCATION:The Overlook
CATEGORIES:Arts & Culture,Historical
ATTACH;FMTTYPE=image/jpeg:https://revolutionaryvalley.org/wp-content/uploads/2024/09/LCK-logo.jpg
END:VEVENT
BEGIN:VEVENT
DTSTART;TZID=America/New_York:20231105T180000
DTEND;TZID=America/New_York:20231105T210000
DTSTAMP:20260424T014031
CREATED:20231102T192729Z
LAST-MODIFIED:20231102T192729Z
UID:10042733-1699207200-1699218000@revolutionaryvalley.org
SUMMARY:Songs for a New World
DESCRIPTION:Please join us for an evening of music and storytelling brimming with energy and heart.
URL:https://revolutionaryvalley.org/event/songs-for-a-new-world/2023-11-05/
LOCATION:The Overlook
CATEGORIES:Arts & Culture
END:VEVENT
BEGIN:VEVENT
DTSTART;TZID=America/New_York:20231104T200000
DTEND;TZID=America/New_York:20231104T230000
DTSTAMP:20260424T014031
CREATED:20231102T192729Z
LAST-MODIFIED:20231102T192729Z
UID:10042732-1699128000-1699138800@revolutionaryvalley.org
SUMMARY:Songs for a New World
DESCRIPTION:Please join us for an evening of music and storytelling brimming with energy and heart.
URL:https://revolutionaryvalley.org/event/songs-for-a-new-world/2023-11-04/
LOCATION:The Overlook
CATEGORIES:Arts & Culture
END:VEVENT
BEGIN:VEVENT
DTSTART;TZID=America/New_York:20231103T200000
DTEND;TZID=America/New_York:20231103T230000
DTSTAMP:20260424T014031
CREATED:20231102T192729Z
LAST-MODIFIED:20231102T192729Z
UID:10042731-1699041600-1699052400@revolutionaryvalley.org
SUMMARY:Songs for a New World
DESCRIPTION:Please join us for an evening of music and storytelling brimming with energy and heart.
URL:https://revolutionaryvalley.org/event/songs-for-a-new-world/2023-11-03/
LOCATION:The Overlook
CATEGORIES:Arts & Culture
END:VEVENT
END:VCALENDAR